BEGIN:VCALENDAR
VERSION:2.0
PRODID:-//Seniorenclub Weissacher Tal - ECPv6.15.12.2//NONSGML v1.0//EN
CALSCALE:GREGORIAN
METHOD:PUBLISH
X-ORIGINAL-URL:https://weissachersenioren.club
X-WR-CALDESC:Veranstaltungen für Seniorenclub Weissacher Tal
REFRESH-INTERVAL;VALUE=DURATION:PT1H
X-Robots-Tag:noindex
X-PUBLISHED-TTL:PT1H
BEGIN:VTIMEZONE
TZID:Europe/Berlin
BEGIN:DAYLIGHT
TZOFFSETFROM:+0100
TZOFFSETTO:+0200
TZNAME:CEST
DTSTART:20250330T010000
END:DAYLIGHT
BEGIN:STANDARD
TZOFFSETFROM:+0200
TZOFFSETTO:+0100
TZNAME:CET
DTSTART:20251026T010000
END:STANDARD
BEGIN:DAYLIGHT
TZOFFSETFROM:+0100
TZOFFSETTO:+0200
TZNAME:CEST
DTSTART:20260329T010000
END:DAYLIGHT
BEGIN:STANDARD
TZOFFSETFROM:+0200
TZOFFSETTO:+0100
TZNAME:CET
DTSTART:20261025T010000
END:STANDARD
BEGIN:DAYLIGHT
TZOFFSETFROM:+0100
TZOFFSETTO:+0200
TZNAME:CEST
DTSTART:20270328T010000
END:DAYLIGHT
BEGIN:STANDARD
TZOFFSETFROM:+0200
TZOFFSETTO:+0100
TZNAME:CET
DTSTART:20271031T010000
END:STANDARD
END:VTIMEZONE
BEGIN:VEVENT
DTSTART;VALUE=DATE:20260418
DTEND;VALUE=DATE:20260419
DTSTAMP:20260423T133526
CREATED:20260418T083301Z
LAST-MODIFIED:20260418T083301Z
UID:1666-1776470400-1776556799@weissachersenioren.club
SUMMARY:Besenrückblick
DESCRIPTION:Schlemmerbesen\, da waren wir doch schon? \nAm 15. April starteten wir um 12 Uhr mit 52 Erwartungsfrohen Seniorinnen und Senioren nach Gemmrigheim. Nachdem die Sammelrunde abgeschlossen war und in Backnang der letzte Gast zugestiegen ist\, begrüßte der Vorstand die Gäste und erläuterte den Ablauf des Tages\, der in diesem Jahr anders geplant war\, wie man es gewöhnt ist. \n„Wir beginnen heute mit Hefezopf und verschiedenen Häppchen (auf schwäbisch Fingerfood)\, dieses ist im Preis enthalten\, wer dann noch möchte kann sich\, auf eigene Kosten\, einen Kaffee und Kuchen bestellen“. Nebenher werden die Essen aufgenommen und frisch vorbereitet\, serviert wird ab 16.30 Uhr. \nSchon um 13.30 Uhr wurden wir im „Schlemmerbesen“ freundlich empfangen. Kaum hatten wir Platz genommen\, standen in kürzester Zeit die Getränke bereit. Dann kam der Hefezopf\, und serviert auf Platten\, dreierlei schmackhafte Häppchen. \nAuch in diesem Jahr ließ es sich die Chefin Fau Sabine Burk nicht nehmen\, um ihre Freude auszudrücken\, dass wir schon zum zweiten Mal in so großer Zahl den Weg nach Gemmrigheim gefunden haben. \nWie üblich hat unser Musiker Walter dann die Gäste gleich in Hochstimmung gebracht. Einmal mehr erbrachten wir den Beweis\, dass wir Älteren auch feiern können und trotz mancher „Wehwechen“ noch Freude am Leben haben. \nMit lustigen Geschichten vom Vorsitzenden ging die Zeit bis zum Essen schnell vorbei. Pünktlich wie versprochen kamen die bestellten Essen\, Schlachtplatte mit hausgemachtem Brot\, Steaks\, Maultaschen\, Bratkartoffeln\, Blattsalat\, natürlich auch Kartoffelsalat usw. alles\, was das Herz begehrt\, spätestens jetzt wussten alle\, warum es „Schlemmerbesen“ heißt. Passend dazu gab es Weine aus eigenem Anbau\, egal ob Rot\, Weiß\, oder Rosé alle waren hervorragend und „liefen runter wie Öl“. \nAls alle satt waren kam der Auftritt des Musikers Walter\, der uns schon öfters im Besen begleitete. Er verstand es die Gäste schnell in Stimmung zu bringen und alle machten mit. \nUm dem Musiker mal eine Pause zu gönnen\, hat der SCW-Vorsitzende aus seinem unerschöpflichen Reservoir\, lustige Gedichte und Geschichten\, so wie man es von ihm gewohnt ist\, vorgetragen\, es war wie immer ein gekonnter Angriff auf die Lachmuskeln der Gäste. Auch als er bat\, dass man ihn unterstützte\, beim „Taram-Tamtam“ waren alle voll dabei. Die Krönung des Nachmittags war aber auch in diesem Jahr die Besen-Seniorchefin\, als sie wieder ihr ganz besonderes Besen-Lied vorgetragen hatte\, langanhaltender Applaus und stehende Ovationen waren der Lohn und Dank zugleich. \nDoch alles hat einmal ein Ende\, so auch dieser Besenbesuch und es startete um 19 Uhr die Rückreise\, so dass alle noch bei Tageslicht heimkamen. \nDer Vorsitzende\, Roland Schlichenmaier\, dankte den Gästen\, dem Musiker und dem Busfahrer\, der gesamten Familie Burk und dem Personal\, sie alle haben zu diesem schönen Nachmittag beigetragen. Beim Abschied hörten wir immer wieder: „Das war wieder ein rundum gelungener Besenbesuch\, auch er gehört in die Kategorie der schönsten die wir je hatten.“ \nBei seiner Abschiedsrede kehrte etwas Traurigkeit ein\, als der Vorsitzende verkündete\,     dass dies sein letzter Besen war\, den er organisierte. Er und seine Frau hätten alles mit      viel Herzblut gemacht\, bat aber um Verständnis\, dass es\, auch aus gesundheitlichen Gründen\, mit vollem Engagement leider nicht mehr weiter möglich ist\, deshalb will er an   der nächsten Jahreshauptversammlung\, am 8. Juni sein Amt abgeben. Mit dem Wunsch\, dass sich doch noch jemand findet\, der bereit ist den Seniorenclub weiter am Leben zu halten\, verabschiedete er die Gäste. RS
URL:https://weissachersenioren.club/veranstaltung/besenrueckblick/
CATEGORIES:Ausflüge
ATTACH;FMTTYPE=image/jpeg:https://weissachersenioren.club/wp-content/uploads/2026/04/2026-4-scw-schlemmerbesen_72-scaled.jpg
END:VEVENT
END:VCALENDAR