BEGIN:VCALENDAR
VERSION:2.0
PRODID:-//Seniorenclub Weissacher Tal - ECPv6.15.12.2//NONSGML v1.0//EN
CALSCALE:GREGORIAN
METHOD:PUBLISH
X-WR-CALNAME:Seniorenclub Weissacher Tal
X-ORIGINAL-URL:https://weissachersenioren.club
X-WR-CALDESC:Veranstaltungen für Seniorenclub Weissacher Tal
REFRESH-INTERVAL;VALUE=DURATION:PT1H
X-Robots-Tag:noindex
X-PUBLISHED-TTL:PT1H
BEGIN:VTIMEZONE
TZID:Europe/Berlin
BEGIN:DAYLIGHT
TZOFFSETFROM:+0100
TZOFFSETTO:+0200
TZNAME:CEST
DTSTART:20250330T010000
END:DAYLIGHT
BEGIN:STANDARD
TZOFFSETFROM:+0200
TZOFFSETTO:+0100
TZNAME:CET
DTSTART:20251026T010000
END:STANDARD
BEGIN:DAYLIGHT
TZOFFSETFROM:+0100
TZOFFSETTO:+0200
TZNAME:CEST
DTSTART:20260329T010000
END:DAYLIGHT
BEGIN:STANDARD
TZOFFSETFROM:+0200
TZOFFSETTO:+0100
TZNAME:CET
DTSTART:20261025T010000
END:STANDARD
BEGIN:DAYLIGHT
TZOFFSETFROM:+0100
TZOFFSETTO:+0200
TZNAME:CEST
DTSTART:20270328T010000
END:DAYLIGHT
BEGIN:STANDARD
TZOFFSETFROM:+0200
TZOFFSETTO:+0100
TZNAME:CET
DTSTART:20271031T010000
END:STANDARD
END:VTIMEZONE
BEGIN:VEVENT
DTSTART;TZID=Europe/Berlin:20260427T140000
DTEND;TZID=Europe/Berlin:20260427T160000
DTSTAMP:20260425T025337
CREATED:20250722T094608Z
LAST-MODIFIED:20250722T094608Z
UID:1289-1777298400-1777305600@weissachersenioren.club
SUMMARY:Seniorentreff
DESCRIPTION:
URL:https://weissachersenioren.club/veranstaltung/seniorentreff-91/
END:VEVENT
BEGIN:VEVENT
DTSTART;TZID=Europe/Berlin:20260504T140000
DTEND;TZID=Europe/Berlin:20260504T160000
DTSTAMP:20260425T025337
CREATED:20250722T094650Z
LAST-MODIFIED:20250722T094650Z
UID:1291-1777903200-1777910400@weissachersenioren.club
SUMMARY:Seniorentreff
DESCRIPTION:
URL:https://weissachersenioren.club/veranstaltung/seniorentreff-92/
END:VEVENT
BEGIN:VEVENT
DTSTART;TZID=Europe/Berlin:20260507T140000
DTEND;TZID=Europe/Berlin:20260507T170000
DTSTAMP:20260425T025337
CREATED:20250722T094733Z
LAST-MODIFIED:20250804T120220Z
UID:1293-1778162400-1778173200@weissachersenioren.club
SUMMARY:Tanznachmittag
DESCRIPTION:
URL:https://weissachersenioren.club/veranstaltung/tanznachmittag-18/
ATTACH;FMTTYPE=image/jpeg:https://weissachersenioren.club/wp-content/uploads/2024/12/P1170910-scaled.jpg
END:VEVENT
BEGIN:VEVENT
DTSTART;TZID=Europe/Berlin:20260511T140000
DTEND;TZID=Europe/Berlin:20260511T160000
DTSTAMP:20260425T025337
CREATED:20250722T094812Z
LAST-MODIFIED:20250722T094812Z
UID:1295-1778508000-1778515200@weissachersenioren.club
SUMMARY:Seniorentreff
DESCRIPTION:
URL:https://weissachersenioren.club/veranstaltung/seniorentreff-93/
END:VEVENT
BEGIN:VEVENT
DTSTART;TZID=Europe/Berlin:20260518T140000
DTEND;TZID=Europe/Berlin:20260518T160000
DTSTAMP:20260425T025337
CREATED:20250722T094858Z
LAST-MODIFIED:20250722T094858Z
UID:1297-1779112800-1779120000@weissachersenioren.club
SUMMARY:Seniorentreff
DESCRIPTION:
URL:https://weissachersenioren.club/veranstaltung/seniorentreff-94/
END:VEVENT
BEGIN:VEVENT
DTSTART;TZID=Europe/Berlin:20260525T140000
DTEND;TZID=Europe/Berlin:20260525T160000
DTSTAMP:20260425T025337
CREATED:20250722T095010Z
LAST-MODIFIED:20250722T095010Z
UID:1299-1779717600-1779724800@weissachersenioren.club
SUMMARY:Kein Seniorentreff Pfingstmontag
DESCRIPTION:
URL:https://weissachersenioren.club/veranstaltung/kein-seniorentreff-pfingstmontag/
END:VEVENT
BEGIN:VEVENT
DTSTART;TZID=Europe/Berlin:20260601T140000
DTEND;TZID=Europe/Berlin:20260601T160000
DTSTAMP:20260425T025337
CREATED:20250722T095054Z
LAST-MODIFIED:20250722T095054Z
UID:1301-1780322400-1780329600@weissachersenioren.club
SUMMARY:Seniorentreff
DESCRIPTION:
URL:https://weissachersenioren.club/veranstaltung/seniorentreff-95/
END:VEVENT
BEGIN:VEVENT
DTSTART;TZID=Europe/Berlin:20260608T140000
DTEND;TZID=Europe/Berlin:20260608T160000
DTSTAMP:20260425T025337
CREATED:20250722T095207Z
LAST-MODIFIED:20250801T075520Z
UID:1303-1780927200-1780934400@weissachersenioren.club
SUMMARY:Jahreshauptversammlung mit Neuwahlen
DESCRIPTION:Da alle Vorstandsmitglieder alters- und gesundheitshalber aufhören\, muss an diesem Tag der gesamte Vorstand neu gewählt werden. Wir hoffen\, dass sich Personen finden die den in allen Belangen gesunden Seniorenclub ab Juli 2026 weiterführen könnten. Deshalb sind alle folgenden Termine nur für das erste Halbjahr aufgelistet.
URL:https://weissachersenioren.club/veranstaltung/jahreshauptversammlung-mit-neuwahlen/
ATTACH;FMTTYPE=image/jpeg:https://weissachersenioren.club/wp-content/uploads/2025/05/IMG_20250428_142622-scaled.jpg
END:VEVENT
BEGIN:VEVENT
DTSTART;TZID=Europe/Berlin:20260611T140000
DTEND;TZID=Europe/Berlin:20260611T170000
DTSTAMP:20260425T025337
CREATED:20250722T095433Z
LAST-MODIFIED:20250722T100555Z
UID:1311-1781186400-1781197200@weissachersenioren.club
SUMMARY:Tanznachmittag
DESCRIPTION:
URL:https://weissachersenioren.club/veranstaltung/tanznachmittag-19/
ATTACH;FMTTYPE=image/jpeg:https://weissachersenioren.club/wp-content/uploads/2024/01/P1170870-scaled.jpg
END:VEVENT
BEGIN:VEVENT
DTSTART;TZID=Europe/Berlin:20260615T140000
DTEND;TZID=Europe/Berlin:20260615T160000
DTSTAMP:20260425T025337
CREATED:20250722T095235Z
LAST-MODIFIED:20250722T095235Z
UID:1305-1781532000-1781539200@weissachersenioren.club
SUMMARY:Seniorentreff
DESCRIPTION:
URL:https://weissachersenioren.club/veranstaltung/seniorentreff-96/
END:VEVENT
BEGIN:VEVENT
DTSTART;TZID=Europe/Berlin:20260622T140000
DTEND;TZID=Europe/Berlin:20260622T160000
DTSTAMP:20260425T025337
CREATED:20250722T095305Z
LAST-MODIFIED:20250722T095305Z
UID:1307-1782136800-1782144000@weissachersenioren.club
SUMMARY:Seniorentreff
DESCRIPTION:
URL:https://weissachersenioren.club/veranstaltung/seniorentreff-97/
END:VEVENT
BEGIN:VEVENT
DTSTART;TZID=Europe/Berlin:20260629T140000
DTEND;TZID=Europe/Berlin:20260629T160000
DTSTAMP:20260425T025337
CREATED:20250722T095337Z
LAST-MODIFIED:20250722T095337Z
UID:1309-1782741600-1782748800@weissachersenioren.club
SUMMARY:Seniorentreff
DESCRIPTION:
URL:https://weissachersenioren.club/veranstaltung/seniorentreff-98/
END:VEVENT
END:VCALENDAR