BEGIN:VCALENDAR
VERSION:2.0
PRODID:-//Seniorenclub Weissacher Tal - ECPv6.15.12.2//NONSGML v1.0//EN
CALSCALE:GREGORIAN
METHOD:PUBLISH
X-ORIGINAL-URL:https://weissachersenioren.club
X-WR-CALDESC:Veranstaltungen für Seniorenclub Weissacher Tal
REFRESH-INTERVAL;VALUE=DURATION:PT1H
X-Robots-Tag:noindex
X-PUBLISHED-TTL:PT1H
BEGIN:VTIMEZONE
TZID:Europe/Berlin
BEGIN:DAYLIGHT
TZOFFSETFROM:+0100
TZOFFSETTO:+0200
TZNAME:CEST
DTSTART:20250330T010000
END:DAYLIGHT
BEGIN:STANDARD
TZOFFSETFROM:+0200
TZOFFSETTO:+0100
TZNAME:CET
DTSTART:20251026T010000
END:STANDARD
BEGIN:DAYLIGHT
TZOFFSETFROM:+0100
TZOFFSETTO:+0200
TZNAME:CEST
DTSTART:20260329T010000
END:DAYLIGHT
BEGIN:STANDARD
TZOFFSETFROM:+0200
TZOFFSETTO:+0100
TZNAME:CET
DTSTART:20261025T010000
END:STANDARD
BEGIN:DAYLIGHT
TZOFFSETFROM:+0100
TZOFFSETTO:+0200
TZNAME:CEST
DTSTART:20270328T010000
END:DAYLIGHT
BEGIN:STANDARD
TZOFFSETFROM:+0200
TZOFFSETTO:+0100
TZNAME:CET
DTSTART:20271031T010000
END:STANDARD
END:VTIMEZONE
BEGIN:VEVENT
DTSTART;TZID=Europe/Berlin:20260112T140000
DTEND;TZID=Europe/Berlin:20260112T160000
DTSTAMP:20260423T221833
CREATED:20240201T095739Z
LAST-MODIFIED:20250717T073810Z
UID:433-1768226400-1768233600@weissachersenioren.club
SUMMARY:Seniorentreff
DESCRIPTION:
URL:https://weissachersenioren.club/veranstaltung/seniorentreff-39/
CATEGORIES:Seniorentreffen
END:VEVENT
BEGIN:VEVENT
DTSTART;TZID=Europe/Berlin:20260119T140000
DTEND;TZID=Europe/Berlin:20260119T160000
DTSTAMP:20260423T221833
CREATED:20250717T074047Z
LAST-MODIFIED:20250717T074047Z
UID:1250-1768831200-1768838400@weissachersenioren.club
SUMMARY:Seniorentreff
DESCRIPTION:
URL:https://weissachersenioren.club/veranstaltung/seniorentreff-79/
END:VEVENT
BEGIN:VEVENT
DTSTART;TZID=Europe/Berlin:20260122T140000
DTEND;TZID=Europe/Berlin:20260122T170000
DTSTAMP:20260423T221833
CREATED:20250717T073950Z
LAST-MODIFIED:20250804T121010Z
UID:1246-1769090400-1769101200@weissachersenioren.club
SUMMARY:Tanznachmittag
DESCRIPTION:
URL:https://weissachersenioren.club/veranstaltung/seniorentanz/
ATTACH;FMTTYPE=image/jpeg:https://weissachersenioren.club/wp-content/uploads/2023/11/image-1.jpg
END:VEVENT
BEGIN:VEVENT
DTSTART;TZID=Europe/Berlin:20260126T140000
DTEND;TZID=Europe/Berlin:20260126T160000
DTSTAMP:20260423T221833
CREATED:20250717T074334Z
LAST-MODIFIED:20250717T074334Z
UID:1252-1769436000-1769443200@weissachersenioren.club
SUMMARY:Seniorentreff
DESCRIPTION:
URL:https://weissachersenioren.club/veranstaltung/seniorentreff-80/
END:VEVENT
END:VCALENDAR